BEGIN:VCALENDAR
VERSION:2.0
PRODID:icalendar-ruby
CALSCALE:GREGORIAN
METHOD:PUBLISH
BEGIN:VEVENT
DTSTAMP:20260425T004339Z
UID:6-226253@gphcsc.com
DTSTART:20260927T173000Z
DTEND:20260927T190000Z
CLASS:PUBLIC
CREATED:20260424T165703
DESCRIPTION:
LAST-MODIFIED:20260424T165703
LOCATION:Georgetown PH Church
SUMMARY:Sunday Worship Service
URL;VALUE=URI:https://www.gphcsc.com/events/sunday-worship-service/2026-09-
 27
ATTACH;FILENAME=06.29.25-GPHC-Announcements.jpeg;FMTTYPE=image/jpeg:https:/
 /dq5pwpg1q8ru0.cloudfront.net/2025/07/05/21/06/03/1a83facb-1fa6-4eb8-8ff1-
 8f3a3b42bdf0/06.29.25-GPHC-Announcements.jpeg
END:VEVENT
END:VCALENDAR
